BEGIN:VCALENDAR
VERSION:2.0
PRODID:-//SVP Möhlin //NONSGML Events //EN
CALSCALE:GREGORIAN
X-WR-CALNAME:SVP Möhlin
BEGIN:VEVENT
CREATED:20260114T133023Z
UID:1165
DTEND:20260121T000000
DTSTART:20260121T000000
DTSTAMP:20260422T170505Z
LOCATION:
DESCRIPTION:
SUMMARY:Kantonalparteitag SVP Aargau
ORGANIZER:
URL;VALUE=URI:https://www.svp-moehlin.ch/termine/kantonalparteitag-svp-aargau-2/
TRANSP:OPAQUE
END:VEVENT
END:VCALENDAR
