BEGIN:VCALENDAR
VERSION:2.0
PRODID:-//SVP Möhlin //NONSGML Events //EN
CALSCALE:GREGORIAN
X-WR-CALNAME:SVP Möhlin
BEGIN:VEVENT
CREATED:20260114T133731Z
UID:1175
DTEND:20260505T000000
DTSTART:20260505T000000
DTSTAMP:20260423T133922Z
LOCATION:
DESCRIPTION:
SUMMARY:Fraktionsausflug
ORGANIZER:
URL;VALUE=URI:https://www.svp-moehlin.ch/termine/fraktionsausflug/
TRANSP:OPAQUE
END:VEVENT
END:VCALENDAR
