BEGIN:VCALENDAR
VERSION:2.0
PRODID:-//SVP Möhlin //NONSGML Events //EN
CALSCALE:GREGORIAN
X-WR-CALNAME:SVP Möhlin
BEGIN:VEVENT
CREATED:20260114T133856Z
UID:1177
DTEND:20260506T000000
DTSTART:20260506T000000
DTSTAMP:20260423T150605Z
LOCATION:
DESCRIPTION:
SUMMARY:Kantonalparteitag SVP Aargau
ORGANIZER:
URL;VALUE=URI:https://www.svp-moehlin.ch/termine/kantonalparteitag-svp-aargau-3/
TRANSP:OPAQUE
END:VEVENT
END:VCALENDAR
