BEGIN:VCALENDAR
VERSION:2.0
PRODID:-//SVP Möhlin //NONSGML Events //EN
CALSCALE:GREGORIAN
X-WR-CALNAME:SVP Möhlin
BEGIN:VEVENT
CREATED:20260114T133928Z
UID:1179
DTEND:20260614T000000
DTSTART:20260614T000000
DTSTAMP:20260423T150327Z
LOCATION:
DESCRIPTION:
SUMMARY:Abstimmungssontag
ORGANIZER:
URL;VALUE=URI:https://www.svp-moehlin.ch/termine/abstimmungssontag/
TRANSP:OPAQUE
END:VEVENT
END:VCALENDAR
