BEGIN:VCALENDAR
VERSION:2.0
PRODID:-//SVP Möhlin //NONSGML Events //EN
CALSCALE:GREGORIAN
X-WR-CALNAME:SVP Möhlin
BEGIN:VEVENT
CREATED:20260114T134106Z
UID:1183
DTEND:20260623T000000
DTSTART:20260623T000000
DTSTAMP:20260423T151458Z
LOCATION:
DESCRIPTION:
SUMMARY:Politapéro mit Sessionsrückblick
ORGANIZER:
URL;VALUE=URI:https://www.svp-moehlin.ch/termine/politapero-mit-sessionsrueckblick/
TRANSP:OPAQUE
END:VEVENT
END:VCALENDAR
